BEGIN:VCALENDAR
VERSION:2.0
PRODID:-//jEvents 2.0 for Joomla//EN
CALSCALE:GREGORIAN
METHOD:PUBLISH
BEGIN:VTIMEZONE
TZID:Europe/London
BEGIN:STANDARD
DTSTART:20231029T010000
RDATE:20240331T020000
TZOFFSETFROM:+0100
TZOFFSETTO:+0000
TZNAME:Europe/London GMT
END:STANDARD
BEGIN:STANDARD
DTSTART:20241027T010000
RDATE:20250330T020000
TZOFFSETFROM:+0100
TZOFFSETTO:+0000
TZNAME:Europe/London GMT
END:STANDARD
BEGIN:STANDARD
DTSTART:20251026T010000
RDATE:20260329T020000
TZOFFSETFROM:+0100
TZOFFSETTO:+0000
TZNAME:Europe/London GMT
END:STANDARD
BEGIN:DAYLIGHT
DTSTART:20230705T190000
RDATE:20231029T010000
TZOFFSETFROM:+0000
TZOFFSETTO:+0100
TZNAME:Europe/London BST
END:DAYLIGHT
BEGIN:DAYLIGHT
DTSTART:20240331T020000
RDATE:20241027T010000
TZOFFSETFROM:+0000
TZOFFSETTO:+0100
TZNAME:Europe/London BST
END:DAYLIGHT
BEGIN:DAYLIGHT
DTSTART:20250330T020000
RDATE:20251026T010000
TZOFFSETFROM:+0000
TZOFFSETTO:+0100
TZNAME:Europe/London BST
END:DAYLIGHT
END:VTIMEZONE
BEGIN:VEVENT
UID:ddf28ee8eff958a72c9e8b1a4290a3c2
CATEGORIES:Events
CREATED:20240618T133315
SUMMARY:Live Pro Wrestling
LOCATION:Marlborough Town Hall
DESCRIPTION:https://www.ticketsource.co.uk/whats-on/wiltshire/marlborough-town-hall/ldn
 -wrestling/e-qlpxak (https://www.ticketsource.co.uk/whats-on/wiltshire/marl
 borough-town-hall/ldn-wrestling/e-qlpxak)\n \n
X-ALT-DESC;FMTTYPE=text/html:<p><span style="text-decoration: underline;"><a href="https://www.ticketsou
 rce.co.uk/whats-on/wiltshire/marlborough-town-hall/ldn-wrestling/e-qlpxak">
 https://www.ticketsource.co.uk/whats-on/wiltshire/marlborough-town-hall/ldn
 -wrestling/e-qlpxak</a></span></p><p>&nbsp;</p>
CONTACT:0333 666 4466
DTSTAMP:20260420T085701
DTSTART;TZID=Europe/London:20240705T190000
SEQUENCE:0
TRANSP:OPAQUE
END:VEVENT
END:VCALENDAR