BEGIN:VCALENDAR
VERSION:2.0
PRODID:-//jEvents 2.0 for Joomla//EN
CALSCALE:GREGORIAN
METHOD:PUBLISH
BEGIN:VTIMEZONE
TZID:Europe/London
BEGIN:STANDARD
DTSTART:20251026T010000
RDATE:20260329T020000
TZOFFSETFROM:+0100
TZOFFSETTO:+0000
TZNAME:Europe/London GMT
END:STANDARD
BEGIN:DAYLIGHT
DTSTART:20250405T100000
RDATE:20251026T010000
TZOFFSETFROM:+0000
TZOFFSETTO:+0100
TZNAME:Europe/London BST
END:DAYLIGHT
END:VTIMEZONE
BEGIN:VEVENT
UID:af4e082ca8ed63e645462d0319c70467
CATEGORIES:Events
CREATED:20260331T092203
SUMMARY:Great Easter Steam Up at Crofton Beam Engines
LOCATION:Crofton Beam Engines
DESCRIPTION:https://www.croftonbeamengines.org/event/great-easter-steam-up-5th-6th-apri
 l/ (https://www.croftonbeamengines.org/event/great-easter-steam-up-5th-6th-
 april/)\n
X-ALT-DESC;FMTTYPE=text/html:<p><a href="https://www.croftonbeamengines.org/event/great-easter-steam-up-
 5th-6th-april/">https://www.croftonbeamengines.org/event/great-easter-steam
 -up-5th-6th-april/</a></p>
DTSTAMP:20260419T135356
DTSTART;TZID=Europe/London:20260406T100000
DTEND;TZID=Europe/London:20260406T163000
SEQUENCE:0
TRANSP:OPAQUE
END:VEVENT
END:VCALENDAR