BEGIN:VCALENDAR
VERSION:2.0
PRODID:-//jEvents 2.0 for Joomla//EN
CALSCALE:GREGORIAN
METHOD:PUBLISH
BEGIN:VTIMEZONE
TZID:Europe/London
BEGIN:STANDARD
DTSTART:20251026T010000
RDATE:20260329T020000
TZOFFSETFROM:+0100
TZOFFSETTO:+0000
TZNAME:Europe/London GMT
END:STANDARD
BEGIN:DAYLIGHT
DTSTART:20250410T100000
RDATE:20251026T010000
TZOFFSETFROM:+0000
TZOFFSETTO:+0100
TZNAME:Europe/London BST
END:DAYLIGHT
END:VTIMEZONE
BEGIN:VEVENT
UID:bbfab05da9f37078d7419794c257a2b9
CATEGORIES:Events
CREATED:20260219T115429
SUMMARY:Marlborough Heritage Networking Event
LOCATION:Marlborough Town Hall
DESCRIPTION:Join us at the Town Hall on Saturday, 11 April, 10:00-12:30 for a morning b
 ringing together local heritage groups, organisations and individuals.\nOrg
 anised by our partners at The Merchant's House, this event is a chance for 
 us to connect, share ideas, and strengthen links across Marlborough's herit
 age community while also welcoming members of the public interested in loca
 l history.\nTo book a space or find out more, contact admin@themerchantshou
 se.co.uk (mailto:admin@themerchantshouse.co.uk) \n
X-ALT-DESC;FMTTYPE=text/html:<p>Join us at the Town Hall on Saturday, 11 April, 10:00-12:30 for a mornin
 g bringing together local heritage groups, organisations and individuals.</
 p><p>Organised by our partners at The Merchant's House, this event is a cha
 nce for us to connect, share ideas, and strengthen links across Marlborough
 's heritage community while also welcoming members of the public interested
  in local history.</p><p>To book a space or find out more, contact <a href=
 "mailto:admin@themerchantshouse.co.uk">admin@themerchantshouse.co.uk</a>&nb
 sp;</p>
CONTACT:admin@themerchantshouse.co.uk
DTSTAMP:20260419T115622
DTSTART;TZID=Europe/London:20260411T100000
DTEND;TZID=Europe/London:20260411T123000
SEQUENCE:0
TRANSP:OPAQUE
END:VEVENT
END:VCALENDAR