BEGIN:VCALENDAR
VERSION:2.0
PRODID:-//jEvents 2.0 for Joomla//EN
CALSCALE:GREGORIAN
METHOD:PUBLISH
BEGIN:VTIMEZONE
TZID:Europe/London
BEGIN:STANDARD
DTSTART:20251026T010000
RDATE:20260329T020000
TZOFFSETFROM:+0100
TZOFFSETTO:+0000
TZNAME:Europe/London GMT
END:STANDARD
BEGIN:DAYLIGHT
DTSTART:20250503T140000
RDATE:20251026T010000
TZOFFSETFROM:+0000
TZOFFSETTO:+0100
TZNAME:Europe/London BST
END:DAYLIGHT
END:VTIMEZONE
BEGIN:VEVENT
UID:ee3a4a955ea95283c840de63c73a8a22
CATEGORIES:Events
CREATED:20260420T114145
SUMMARY:Blossom Walk
DESCRIPTION:Blossom Walk 2026\nMarlborough Community Orchard (MCO) together with Transi
 tion Marlborough are offering a blossom walk at 14:00 on Monday the 4th of 
 May over the bank holiday weekend, to see our orchard trees in bloom. The w
 alk leaders will be available to answer any questions you might have and to
  pass on additional information.\nThe meeting point will be outside the Tow
 n Hall. The route will include the MCO sites within the town centre ending 
 at St Peters with an extension to the Diamond Jubilee Plantation (DJP) on t
 he Common for those who still have some energy. The total distance will be 
 around 3km if the DJP is included and will mainly follow  our Fruit Loop Ce
 ntral walking route. (https://eur03.safelinks.protection.outlook.com/?url=h
 ttps%3A%2F%2Fwww.transitionmarlborough.org.uk%2Ftransition-marlborough-down
 loads%2F&amp;data=05%7C02%7Cenquiries%40marlborough-tc.gov.uk%7Cd90ecb80e6e
 e46ad8da308de9c871b9e%7C2ab3079ac4904e148692e65c6d137229%7C0%7C0%7C63912030
 1286775746%7CUnknown%7CTWFpbGZsb3d8eyJFbXB0eU1hcGkiOnRydWUsIlYiOiIwLjAuMDAw
 MCIsIlAiOiJXaW4zMiIsIkFOIjoiTWFpbCIsIldUIjoyfQ%3D%3D%7C0%7C%7C%7C&amp;sdata
 =o9xUVdMrl7urG2m5agmtXmWZ%2FEb3YHw91E9g7d3rlpk%3D&amp;reserved=0) One of fo
 ur walking routes we have produced and which are available to download at t
 he link. Some walking on uneven ground will be required but it is mostly on
  pavement and tarmacked paths.\n \nDownloads - Transition Marlborough (http
 s://www.transitionmarlborough.org.uk/transition-marlborough-downloads/)\n
X-ALT-DESC;FMTTYPE=text/html:<p style="text-align: center;"><b><span style="text-decoration: underline;"
 ><span style="font-size: 24pt; font-family: Arial, sans-serif;">Blossom Wal
 k 2026</span></span></b></p><p><span style="font-size: 13.5pt; font-family:
  Arial, sans-serif;">Marlborough</span> <span style="font-size: 13.5pt; fon
 t-family: Arial, sans-serif;">Community Orchard (MCO) together with Transit
 ion Marlborough are offering a blossom walk at 14:00 on Monday the 4<sup>th
 </sup> of May over the bank holiday weekend, to see our orchard trees in bl
 oom. The walk leaders will be available to answer any questions you might h
 ave and to pass on additional information.</span></p><p><span style="font-s
 ize: 13.5pt; font-family: Arial, sans-serif;">The meeting point will be out
 side the Town Hall. The route will include the MCO sites within the town ce
 ntre ending at St Peters with an extension to the Diamond Jubilee Plantatio
 n (DJP) on the</span> <span style="font-size: 13.5pt; font-family: Arial, s
 ans-serif;">Common for those who still have some energy. The total distance
  will be around 3km if the DJP is included and will mainly follow&nbsp; our
 </span> <a href="https://eur03.safelinks.protection.outlook.com/?url=https%
 3A%2F%2Fwww.transitionmarlborough.org.uk%2Ftransition-marlborough-downloads
 %2F&amp;data=05%7C02%7Cenquiries%40marlborough-tc.gov.uk%7Cd90ecb80e6ee46ad
 8da308de9c871b9e%7C2ab3079ac4904e148692e65c6d137229%7C0%7C0%7C6391203012867
 75746%7CUnknown%7CTWFpbGZsb3d8eyJFbXB0eU1hcGkiOnRydWUsIlYiOiIwLjAuMDAwMCIsI
 lAiOiJXaW4zMiIsIkFOIjoiTWFpbCIsIldUIjoyfQ%3D%3D%7C0%7C%7C%7C&amp;sdata=o9xU
 VdMrl7urG2m5agmtXmWZ%2FEb3YHw91E9g7d3rlpk%3D&amp;reserved=0"><span style="f
 ont-size: 13.5pt; font-family: Arial, sans-serif; color: #0563c1;">Fruit Lo
 op Central walking route.</span></a><span style="font-size: 13.5pt; font-fa
 mily: Arial, sans-serif;"> One of four walking routes we have produced and 
 which are available to download at the link.</span> <span style="font-size:
  13.5pt; font-family: Arial, sans-serif;">Some walking</span> <span style="
 font-size: 13.5pt; font-family: Arial, sans-serif;">on uneven ground will b
 e required but it is mostly on pavement and</span> <span style="font-size: 
 13.5pt; font-family: Arial, sans-serif;">tarmacked</span> <span style="font
 -size: 13.5pt; font-family: Arial, sans-serif;">paths.</span></p><p>&nbsp;<
 /p><p><a href="https://www.transitionmarlborough.org.uk/transition-marlboro
 ugh-downloads/">Downloads - Transition Marlborough</a></p>
DTSTAMP:20260421T141032
DTSTART;TZID=Europe/London:20260504T140000
SEQUENCE:0
TRANSP:OPAQUE
END:VEVENT
END:VCALENDAR